BEGIN:VCALENDAR
VERSION:2.0
PRODID:SchoolNow
CALSCALE:GREGORIAN
BEGIN:VEVENT
UID:6ee3acf6-0770-11f0-902f-0a58a9feac02
DTSTAMP:20250325T101042Z
SUMMARY:Adult Soiée
URL;VALUE=URI:https://www.concordiaconservatory.org/calendar/7749558/adult-
 soi-e
DTSTART:20250125T000000Z
DTEND:20250125T010000Z
END:VEVENT
END:VCALENDAR
