BEGIN:VCALENDAR
VERSION:2.0
PRODID:SchoolNow
CALSCALE:GREGORIAN
BEGIN:VEVENT
UID:6ed641a6-0770-11f0-b443-0a58a9feac02
DTSTAMP:20250325T101059Z
SUMMARY:Youth Program Honors Recitals - Bronxville - Jan. 26
URL;VALUE=URI:https://www.concordiaconservatory.org/calendar/7749557/youth-
 program-honors-recitals-bronxville-jan-26
DTSTART:20250126T210000Z
DTEND:20250126T230000Z
END:VEVENT
END:VCALENDAR
