BEGIN:VCALENDAR
VERSION:2.0
PRODID:SchoolNow
CALSCALE:GREGORIAN
BEGIN:VEVENT
UID:6eccedcc-0770-11f0-919a-0a58a9feac02
DTSTAMP:20250325T101047Z
SUMMARY:Youth Program Honors Recitals - Bronxville - Jan. 25
URL;VALUE=URI:https://www.concordiaconservatory.org/calendar/7749556/youth-
 program-honors-recitals-bronxville-jan-25
DTSTART:20250125T210000Z
DTEND:20250125T230000Z
END:VEVENT
END:VCALENDAR
