BEGIN:VCALENDAR
VERSION:2.0
PRODID:SchoolNow
CALSCALE:GREGORIAN
BEGIN:VEVENT
UID:6ec4c160-0770-11f0-9aaf-0a58a9feac02
DTSTAMP:20250325T101037Z
SUMMARY:Youth Program Honors Recitals - Bronxville - Jan. 24
URL;VALUE=URI:https://www.concordiaconservatory.org/calendar/7749555/youth-
 program-honors-recitals-bronxville-jan-24
DTSTART:20250124T230000Z
DTEND:20250125T010000Z
END:VEVENT
END:VCALENDAR
