BEGIN:VCALENDAR
VERSION:2.0
PRODID:SchoolNow
CALSCALE:GREGORIAN
BEGIN:VEVENT
UID:6ebb53a0-0770-11f0-9ec1-0a58a9feac02
DTSTAMP:20250325T101052Z
SUMMARY:Musical Adventures Series
URL;VALUE=URI:https://www.concordiaconservatory.org/calendar/7749554/musica
 l-adventures-series
DTSTART:20250126T200000Z
DTEND:20250126T210000Z
END:VEVENT
END:VCALENDAR
