BEGIN:VCALENDAR
VERSION:2.0
PRODID:SchoolNow
CALSCALE:GREGORIAN
BEGIN:VEVENT
UID:6eb2d75c-0770-11f0-a313-0a58a9feac02
DTSTAMP:20250325T101032Z
SUMMARY:High School Senior Advisement Meeting
URL;VALUE=URI:https://www.concordiaconservatory.org/calendar/7749553/high-s
 chool-senior-advisement-meeting
DTSTART:20250106T233000Z
DTEND:20250107T003000Z
END:VEVENT
END:VCALENDAR
