BEGIN:VCALENDAR
VERSION:2.0
PRODID:SchoolNow
CALSCALE:GREGORIAN
BEGIN:VEVENT
UID:6eaa573a-0770-11f0-b9e6-0a58a9feac02
DTSTAMP:20250325T101021Z
SUMMARY:Finding Mrs. Claus - Dec. 14
URL;VALUE=URI:https://www.concordiaconservatory.org/calendar/7749552/findin
 g-mrs-claus-dec-14
DTSTART:20241208T200000Z
DTEND:20241208T213000Z
END:VEVENT
END:VCALENDAR
