BEGIN:VCALENDAR
VERSION:2.0
PRODID:SchoolNow
CALSCALE:GREGORIAN
BEGIN:VEVENT
UID:6ea4d616-0770-11f0-913a-0a58a9feac02
DTSTAMP:20250325T101026Z
SUMMARY:Finding Mrs. Claus - Dec. 8
URL;VALUE=URI:https://www.concordiaconservatory.org/calendar/7749551/findin
 g-mrs-claus-dec-8
DTSTART:20241208T200000Z
DTEND:20241208T213000Z
END:VEVENT
END:VCALENDAR
