BEGIN:VCALENDAR
VERSION:2.0
PRODID:SchoolNow
CALSCALE:GREGORIAN
BEGIN:VEVENT
UID:6e9f7996-0770-11f0-8a75-0a58a9feac02
DTSTAMP:20250325T101016Z
SUMMARY:Finding Mrs. Claus - Dec. 7
URL;VALUE=URI:https://www.concordiaconservatory.org/calendar/7749550/findin
 g-mrs-claus-dec-7
DTSTART:20241208T000000Z
DTEND:20241208T013000Z
END:VEVENT
END:VCALENDAR
