BEGIN:VCALENDAR
VERSION:2.0
PRODID:SchoolNow
CALSCALE:GREGORIAN
BEGIN:VEVENT
UID:6e9a2b3a-0770-11f0-b5f2-0a58a9feac02
DTSTAMP:20250325T101010Z
SUMMARY:Finding Mrs. Claus - Dec. 7
URL;VALUE=URI:https://www.concordiaconservatory.org/calendar/7749549/findin
 g-mrs-claus-dec-7
DTSTART:20241207T200000Z
DTEND:20241207T213000Z
END:VEVENT
END:VCALENDAR
