BEGIN:VCALENDAR
VERSION:2.0
PRODID:SchoolNow
CALSCALE:GREGORIAN
BEGIN:VEVENT
UID:6e9420fa-0770-11f0-89be-0a58a9feac02
DTSTAMP:20250325T100957Z
SUMMARY:More Than Music Series
URL;VALUE=URI:https://www.concordiaconservatory.org/calendar/7749548/more-t
 han-music-series
DTSTART:20241117T210000Z
DTEND:20241117T220000Z
END:VEVENT
END:VCALENDAR
