BEGIN:VCALENDAR
VERSION:2.0
PRODID:SchoolNow
CALSCALE:GREGORIAN
BEGIN:VEVENT
UID:6e8e7150-0770-11f0-87f3-0a58a9feac02
DTSTAMP:20250325T101004Z
SUMMARY:Youth Program Honors Recitals - Nov. 17
URL;VALUE=URI:https://www.concordiaconservatory.org/calendar/7749547/youth-
 program-honors-recitals-nov-17
DTSTART:20241117T210000Z
DTEND:20241117T230000Z
END:VEVENT
END:VCALENDAR
