BEGIN:VCALENDAR
VERSION:2.0
PRODID:SchoolNow
CALSCALE:GREGORIAN
BEGIN:VEVENT
UID:6e88b5b2-0770-11f0-b0ba-0a58a9feac02
DTSTAMP:20250325T100952Z
SUMMARY:Youth Program Honors Recitals - Bronxville - Nov 16
URL;VALUE=URI:https://www.concordiaconservatory.org/calendar/7749546/youth-
 program-honors-recitals-bronxville-nov-16
DTSTART:20241116T210000Z
DTEND:20241116T230000Z
END:VEVENT
END:VCALENDAR
