BEGIN:VCALENDAR
VERSION:2.0
PRODID:SchoolNow
CALSCALE:GREGORIAN
BEGIN:VEVENT
UID:6e82283c-0770-11f0-9564-0a58a9feac02
DTSTAMP:20250325T100916Z
SUMMARY:Hoch Chamber Music Series - Nov. 10
URL;VALUE=URI:https://www.concordiaconservatory.org/calendar/7749545/hoch-c
 hamber-music-series-nov-10
DTSTART:20241110T200000Z
DTEND:20241110T213000Z
END:VEVENT
END:VCALENDAR
