BEGIN:VCALENDAR
VERSION:2.0
PRODID:SchoolNow
CALSCALE:GREGORIAN
BEGIN:VEVENT
UID:6e7c5f10-0770-11f0-8732-0a58a9feac02
DTSTAMP:20250325T100947Z
SUMMARY:Youth Program Honors Recitals - Stamford - Nov. 15
URL;VALUE=URI:https://www.concordiaconservatory.org/calendar/7749544/youth-
 program-honors-recitals-stamford-nov-15
DTSTART:20241115T230000Z
DTEND:20241116T000000Z
END:VEVENT
END:VCALENDAR
