BEGIN:VCALENDAR
VERSION:2.0
PRODID:SchoolNow
CALSCALE:GREGORIAN
BEGIN:VEVENT
UID:6e75b746-0770-11f0-ab8b-0a58a9feac02
DTSTAMP:20250325T100911Z
SUMMARY:Hoch Chamber Music Series - Nov. 9
URL;VALUE=URI:https://www.concordiaconservatory.org/calendar/7749543/hoch-c
 hamber-music-series-nov-9
DTSTART:20241110T000000Z
DTEND:20241110T013000Z
END:VEVENT
END:VCALENDAR
