BEGIN:VCALENDAR
VERSION:2.0
PRODID:SchoolNow
CALSCALE:GREGORIAN
BEGIN:VEVENT
UID:6e701a5c-0770-11f0-ba26-0a58a9feac02
DTSTAMP:20250325T100906Z
SUMMARY:Youth Performance Classes - Stamford
URL;VALUE=URI:https://www.concordiaconservatory.org/calendar/7749542/youth-
 performance-classes-stamford
DTSTART:20241027T210000Z
DTEND:20241027T230000Z
END:VEVENT
END:VCALENDAR
