BEGIN:VCALENDAR
VERSION:2.0
PRODID:SchoolNow
CALSCALE:GREGORIAN
BEGIN:VEVENT
UID:6e6b83c0-0770-11f0-9880-0a58a9feac02
DTSTAMP:20250325T100858Z
SUMMARY:UNIQUE Series
URL;VALUE=URI:https://www.concordiaconservatory.org/calendar/7749541/unique
 -series
DTSTART:20241026T140000Z
DTEND:20241026T190000Z
END:VEVENT
END:VCALENDAR
