BEGIN:VCALENDAR
VERSION:2.0
PRODID:SchoolNow
CALSCALE:GREGORIAN
BEGIN:VEVENT
UID:6e65782c-0770-11f0-acb0-0a58a9feac02
DTSTAMP:20250325T100851Z
SUMMARY:Auditions - 25th Annual Holiday Community Musical - Sept. 14
LOCATION:Stein Hall\, 171 White Plains Road\, Bronxville
URL;VALUE=URI:https://www.concordiaconservatory.org/calendar/7749540/auditi
 ons-25th-annual-holiday-community-musical-sept-14
DTSTART:20240914T190000Z
DTEND:20240914T210000Z
END:VEVENT
END:VCALENDAR
