BEGIN:VCALENDAR
VERSION:2.0
PRODID:SchoolNow
CALSCALE:GREGORIAN
BEGIN:VEVENT
UID:6e60a4e6-0770-11f0-b745-0a58a9feac02
DTSTAMP:20250325T100842Z
SUMMARY:Auditions - 25th Annual Holiday Community Musical - Sept. 8
LOCATION:Concordia Conservatory\, Stein Hall\, 171 White Plains Road\, Bron
 xville
URL;VALUE=URI:https://www.concordiaconservatory.org/calendar/7749539/auditi
 ons-25th-annual-holiday-community-musical-sept-8
DTSTART:20240908T190000Z
DTEND:20240908T220000Z
END:VEVENT
END:VCALENDAR
