BEGIN:VCALENDAR
VERSION:2.0
PRODID:SchoolNow
CALSCALE:GREGORIAN
BEGIN:VEVENT
UID:6e5cb002-0770-11f0-ac8c-0a58a9feac02
DTSTAMP:20250325T100837Z
SUMMARY:Auditions - Pre-Academy & Academy - Sept. 8
LOCATION:Concordia Conservatory\, Stein Hall\, 171 White Plains Road\, Bron
 xville
URL;VALUE=URI:https://www.concordiaconservatory.org/calendar/7749538/auditi
 ons-pre-academy-academy-sept-8
DTSTART:20240908T190000Z
DTEND:20240908T210000Z
END:VEVENT
END:VCALENDAR
