BEGIN:VCALENDAR
VERSION:2.0
PRODID:SchoolNow
CALSCALE:GREGORIAN
BEGIN:VEVENT
UID:6e570bfc-0770-11f0-8970-0a58a9feac02
DTSTAMP:20250325T100831Z
SUMMARY:Open House - Bronxville
LOCATION:Stein Hall\, 171 White Plains Road
URL;VALUE=URI:https://www.concordiaconservatory.org/calendar/7749537/open-h
 ouse-bronxville
DTSTART:20240908T193000Z
DTEND:20240908T210000Z
END:VEVENT
END:VCALENDAR
