BEGIN:VCALENDAR
VERSION:2.0
PRODID:SchoolNow
CALSCALE:GREGORIAN
BEGIN:VEVENT
UID:6e50a08c-0770-11f0-b50a-0a58a9feac02
DTSTAMP:20250325T100815Z
SUMMARY:Summer Camp Performance - Aug. 9
LOCATION:Sommer Center\, located at Iona University
URL;VALUE=URI:https://www.concordiaconservatory.org/calendar/7749536/summer
 -camp-performance-aug-9
DTSTART:20240809T190000Z
DTEND:20240809T203000Z
END:VEVENT
END:VCALENDAR
