BEGIN:VCALENDAR
VERSION:2.0
PRODID:SchoolNow
CALSCALE:GREGORIAN
BEGIN:VEVENT
UID:6e4a9386-0770-11f0-958a-0a58a9feac02
DTSTAMP:20250325T100809Z
SUMMARY:Summer Camp Performance - Aug. 2
LOCATION:Sommer Center\, located Iona University
URL;VALUE=URI:https://www.concordiaconservatory.org/calendar/7749535/summer
 -camp-performance-aug-2
DTSTART:20240802T190000Z
DTEND:20240802T203000Z
END:VEVENT
END:VCALENDAR
