BEGIN:VCALENDAR
VERSION:2.0
PRODID:SchoolNow
CALSCALE:GREGORIAN
BEGIN:VEVENT
UID:6e415898-0770-11f0-9086-0a58a9feac02
DTSTAMP:20250325T100826Z
SUMMARY:Opening Day - Stamford
LOCATION:884 Newfield Avenue\, Stamford
URL;VALUE=URI:https://www.concordiaconservatory.org/calendar/7749534/openin
 g-day-stamford
DTSTART:20240906T130000Z
DTEND:20240907T010000Z
END:VEVENT
END:VCALENDAR
