BEGIN:VCALENDAR
VERSION:2.0
PRODID:SchoolNow
CALSCALE:GREGORIAN
BEGIN:VEVENT
UID:6e3aebf2-0770-11f0-80e9-0a58a9feac02
DTSTAMP:20250325T100820Z
SUMMARY:High School Senior Advisement Meeting
LOCATION:Concordia Conservatory\, Stein Hall\, Room 101
URL;VALUE=URI:https://www.concordiaconservatory.org/calendar/7749533/high-s
 chool-senior-advisement-meeting
DTSTART:20240904T223000Z
DTEND:20240904T233000Z
END:VEVENT
END:VCALENDAR
