BEGIN:VCALENDAR
VERSION:2.0
PRODID:SchoolNow
CALSCALE:GREGORIAN
BEGIN:VEVENT
UID:6e32d160-0770-11f0-8779-0a58a9feac02
DTSTAMP:20250325T100804Z
SUMMARY:PAGEANT!
URL;VALUE=URI:https://www.concordiaconservatory.org/calendar/7749532/pagean
 t
DTSTART:20211204T210000Z
DTEND:20211205T180000Z
END:VEVENT
END:VCALENDAR
