BEGIN:VCALENDAR
VERSION:2.0
PRODID:SchoolNow
CALSCALE:GREGORIAN
BEGIN:VEVENT
UID:6e2ce778-0770-11f0-8d6d-0a58a9feac02
DTSTAMP:20250325T100758Z
SUMMARY:Our Planet Part 1: Ocean Currents
URL;VALUE=URI:https://www.concordiaconservatory.org/calendar/7749531/our-pl
 anet-part-1-ocean-currents
DTSTART:20211121T210000Z
DTEND:20211121T230000Z
END:VEVENT
END:VCALENDAR
