BEGIN:VCALENDAR
VERSION:2.0
PRODID:SchoolNow
CALSCALE:GREGORIAN
BEGIN:VEVENT
UID:6e24933e-0770-11f0-b5ba-0a58a9feac02
DTSTAMP:20250325T100714Z
SUMMARY:The 2021-20 Conservatory year begins September 13
URL;VALUE=URI:https://www.concordiaconservatory.org/calendar/7749530/the-20
 21-20-conservatory-year-begins-september-13
DTSTART;VALUE=DATE:20210913
DTEND;VALUE=DATE:20210914
END:VEVENT
END:VCALENDAR
