BEGIN:VCALENDAR
VERSION:2.0
PRODID:SchoolNow
CALSCALE:GREGORIAN
BEGIN:VEVENT
UID:6e1f13aa-0770-11f0-b96a-0a58a9feac02
DTSTAMP:20250325T100719Z
SUMMARY:A Night In Italy
URL;VALUE=URI:https://www.concordiaconservatory.org/calendar/7749529/a-nigh
 t-in-italy
DTSTART:20211106T230000Z
DTEND:20211107T010000Z
END:VEVENT
END:VCALENDAR
