BEGIN:VCALENDAR
VERSION:2.0
PRODID:SchoolNow
CALSCALE:GREGORIAN
BEGIN:VEVENT
UID:6e181e4c-0770-11f0-b211-0a58a9feac02
DTSTAMP:20250325T100709Z
SUMMARY:Concordia Conservatory Open House
URL;VALUE=URI:https://www.concordiaconservatory.org/calendar/7749528/concor
 dia-conservatory-open-house
DTSTART:20210911T210000Z
DTEND:20210911T223000Z
END:VEVENT
END:VCALENDAR
